BEGIN:VCALENDAR
VERSION:2.0
PRODID:-//Skrášlime Slovensko - ECPv5.0.2//NONSGML v1.0//EN
CALSCALE:GREGORIAN
METHOD:PUBLISH
X-WR-CALNAME:Skrášlime Slovensko
X-ORIGINAL-URL:https://www.skraslime.sk
X-WR-CALDESC:Udalosti pre Skrášlime Slovensko
BEGIN:VTIMEZONE
TZID:Europe/Bratislava
BEGIN:DAYLIGHT
TZOFFSETFROM:+0100
TZOFFSETTO:+0200
TZNAME:CEST
DTSTART:20200329T010000
END:DAYLIGHT
BEGIN:STANDARD
TZOFFSETFROM:+0200
TZOFFSETTO:+0100
TZNAME:CET
DTSTART:20201025T010000
END:STANDARD
END:VTIMEZONE
BEGIN:VEVENT
DTSTART;TZID=Europe/Bratislava:20200419T100000
DTEND;TZID=Europe/Bratislava:20200419T170000
DTSTAMP:20260425T184631
CREATED:20200225T113756Z
LAST-MODIFIED:20200225T130401Z
UID:1418-1587290400-1587315600@www.skraslime.sk
SUMMARY:Burza starožitností na Miletičke
DESCRIPTION:Burza starožitností na Miletičke
URL:https://www.skraslime.sk/event/burza-starozitnosti-na-mileticke-2/
LOCATION:Trhovisko Miletičova\, Miletičova\, Bratislava\, 82109\, Slovenská republika
CATEGORIES:Burza na Miletičke
ORGANIZER;CN="Skr%C3%A1%C5%A1lime%20Slovensko%2C%20o.z.":MAILTO:info@skraslime.sk
END:VEVENT
END:VCALENDAR