BEGIN:VCALENDAR
VERSION:2.0
PRODID:-//Skrášlime Slovensko - ECPv5.0.2//NONSGML v1.0//EN
CALSCALE:GREGORIAN
METHOD:PUBLISH
X-WR-CALNAME:Skrášlime Slovensko
X-ORIGINAL-URL:https://www.skraslime.sk
X-WR-CALDESC:Udalosti pre Skrášlime Slovensko
BEGIN:VTIMEZONE
TZID:Europe/Bratislava
BEGIN:DAYLIGHT
TZOFFSETFROM:+0100
TZOFFSETTO:+0200
TZNAME:CEST
DTSTART:20200329T010000
END:DAYLIGHT
BEGIN:STANDARD
TZOFFSETFROM:+0200
TZOFFSETTO:+0100
TZNAME:CET
DTSTART:20201025T010000
END:STANDARD
END:VTIMEZONE
BEGIN:VEVENT
DTSTART;TZID=Europe/Bratislava:20200329T100000
DTEND;TZID=Europe/Bratislava:20200329T170000
DTSTAMP:20260425T183927
CREATED:20200224T134810Z
LAST-MODIFIED:20200224T134810Z
UID:1411-1585476000-1585501200@www.skraslime.sk
SUMMARY:Burza starožitností na Miletičke
DESCRIPTION:Burza starožitností na Miletičke
URL:https://www.skraslime.sk/event/burza-starozitnosti-na-mileticke/
LOCATION:Trhovisko Miletičova\, Miletičova\, Bratislava\, 82109\, Slovenská republika
ATTACH;FMTTYPE=image/jpeg:https://www.skraslime.sk/wp-content/uploads/2020/02/BURZA.29032020-1.jpg
ORGANIZER;CN="Skr%C3%A1%C5%A1lime%20Slovensko%2C%20o.z.":MAILTO:info@skraslime.sk
END:VEVENT
END:VCALENDAR